BEGIN:VCALENDAR
VERSION:2.0
PRODID:SchoolNow
CALSCALE:GREGORIAN
BEGIN:VEVENT
UID:eed42b26-d8c6-11ea-a19d-1275593c1b5b
DTSTAMP:20200807T155911Z
SUMMARY:Classes Resume
URL;VALUE=URI:https://www.materdeicatholic.com/calendar/2302217/classes-res
 ume
DTSTART;VALUE=DATE:20201201
DTEND;VALUE=DATE:20201202
END:VEVENT
END:VCALENDAR
