BEGIN:VCALENDAR
VERSION:2.0
PRODID:SchoolNow
CALSCALE:GREGORIAN
BEGIN:VEVENT
UID:c47b9c4c-d8c6-11ea-8824-1275593c1b5b
DTSTAMP:20200807T160007Z
SUMMARY:No School
URL;VALUE=URI:https://www.materdeicatholic.com/calendar/2302216/no-school
DTSTART;VALUE=DATE:20201127
DTEND;VALUE=DATE:20201128
END:VEVENT
END:VCALENDAR
