BEGIN:VCALENDAR
VERSION:2.0
PRODID:SchoolNow
CALSCALE:GREGORIAN
BEGIN:VEVENT
UID:b715613c-d8c6-11ea-aef8-1275593c1b5b
DTSTAMP:20200807T155737Z
SUMMARY:No School
URL;VALUE=URI:https://www.materdeicatholic.com/calendar/2302215/no-school
DTSTART;VALUE=DATE:20201126
DTEND;VALUE=DATE:20201127
END:VEVENT
END:VCALENDAR
