BEGIN:VCALENDAR
VERSION:2.0
PRODID:SchoolNow
CALSCALE:GREGORIAN
BEGIN:VEVENT
UID:89fabc74-d8c6-11ea-a103-1275593c1b5b
DTSTAMP:20200807T155621Z
SUMMARY:Early Dismissal
URL;VALUE=URI:https://www.materdeicatholic.com/calendar/2302214/early-dismi
 ssal
DTSTART:20201125T163000Z
DTEND:20201125T164500Z
END:VEVENT
END:VCALENDAR
