BEGIN:VCALENDAR
VERSION:2.0
PRODID:SchoolNow
CALSCALE:GREGORIAN
BEGIN:VEVENT
UID:53050076-d8c6-11ea-b31c-0a5362879137
DTSTAMP:20200807T155449Z
SUMMARY:Live Stream Thanksgiving School Liturgy
URL;VALUE=URI:https://www.materdeicatholic.com/calendar/2302213/live-stream
 -thanksgiving-school-liturgy
DTSTART:20201125T143000Z
DTEND:20201125T153000Z
END:VEVENT
END:VCALENDAR
