BEGIN:VCALENDAR
VERSION:2.0
PRODID:SchoolNow
CALSCALE:GREGORIAN
BEGIN:VEVENT
UID:a77856cc-d8c5-11ea-a568-120ee9ec6873
DTSTAMP:20200807T161223Z
SUMMARY:New Student Registration for 2021-2022 Begins
URL;VALUE=URI:https://www.materdeicatholic.com/calendar/2302212/new-student
 -registration-for-2021-2022-begins
DTSTART;VALUE=DATE:20201116
DTEND;VALUE=DATE:20201117
END:VEVENT
END:VCALENDAR
