BEGIN:VCALENDAR
VERSION:2.0
PRODID:SchoolNow
CALSCALE:GREGORIAN
BEGIN:VEVENT
UID:7dd41a3c-d8c4-11ea-b56a-0a028c1306f7
DTSTAMP:20200807T165802Z
SUMMARY:Home & School Zoom General Meeting
URL;VALUE=URI:https://www.materdeicatholic.com/calendar/2302210/home-and-sc
 hool-zoom-general-meeting
DTSTART:20201020T230000Z
DTEND:20201021T000000Z
END:VEVENT
END:VCALENDAR
