BEGIN:VCALENDAR
VERSION:2.0
PRODID:SchoolNow
CALSCALE:GREGORIAN
BEGIN:VEVENT
UID:ed0b67f8-d8c3-11ea-bb19-0a028c1306f7
DTSTAMP:20200807T161326Z
SUMMARY:Re-Registration Begins for 2021-2022 School Year
URL;VALUE=URI:https://www.materdeicatholic.com/calendar/2302209/re-registra
 tion-begins-for-2021-2022-school-year
DTSTART;VALUE=DATE:20201019
DTEND;VALUE=DATE:20201020
END:VEVENT
END:VCALENDAR
