BEGIN:VCALENDAR
VERSION:2.0
PRODID:SchoolNow
CALSCALE:GREGORIAN
BEGIN:VEVENT
UID:94badfd0-d8c2-11ea-8915-0a5362879137
DTSTAMP:20200807T152801Z
SUMMARY:No School for Students
DESCRIPTION:Professional Development Day for Faculty
URL;VALUE=URI:https://www.materdeicatholic.com/calendar/2302200/no-school-f
 or-students
DTSTART;VALUE=DATE:20201001
DTEND;VALUE=DATE:20201002
END:VEVENT
END:VCALENDAR
