BEGIN:VCALENDAR
VERSION:2.0
PRODID:SchoolNow
CALSCALE:GREGORIAN
BEGIN:VEVENT
UID:d49babb2-d669-11ea-8288-123192e711e5
DTSTAMP:20200914T234406Z
SUMMARY:Gr. 1-8 Zoom Back to School Night
URL;VALUE=URI:https://www.materdeicatholic.com/calendar/2298985/gr-1-8-zoom
 -back-to-school-night
DTSTART:20200930T230000Z
DTEND:20201001T003000Z
END:VEVENT
END:VCALENDAR
