BEGIN:VCALENDAR
VERSION:2.0
PRODID:SchoolNow
CALSCALE:GREGORIAN
BEGIN:VEVENT
UID:b92b0524-d666-11ea-bbd5-12cd32d5973b
DTSTAMP:20200804T152526Z
SUMMARY:Full Week of School for Pre-K 3 through Gr. 8
DESCRIPTION:All students in Pre-K 3 through Grade 8 will report for a full 
 week of school.
URL;VALUE=URI:https://www.materdeicatholic.com/calendar/2298981/full-week-o
 f-school-for-pre-k-3-through-gr-8
DTSTART;VALUE=DATE:20200914
DTEND;VALUE=DATE:20200915
END:VEVENT
END:VCALENDAR
