BEGIN:VCALENDAR
VERSION:2.0
PRODID:SchoolNow
CALSCALE:GREGORIAN
BEGIN:VEVENT
UID:3aacd1aa-d666-11ea-b100-12239fbef81b
DTSTAMP:20200804T152154Z
SUMMARY:Opening of School Pre-K 3 and Pre-K 4 (only)
DESCRIPTION:Full Day of School except for Half-Day Pre-K students
URL;VALUE=URI:https://www.materdeicatholic.com/calendar/2298980/opening-of-
 school-pre-k-3-and-pre-k-4-only
DTSTART;VALUE=DATE:20200911
DTEND;VALUE=DATE:20200912
END:VEVENT
END:VCALENDAR
