BEGIN:VCALENDAR
VERSION:2.0
PRODID:SchoolNow
CALSCALE:GREGORIAN
BEGIN:VEVENT
UID:be5d127c-d665-11ea-9081-12c7f4e9377b
DTSTAMP:20200807T154246Z
SUMMARY:Pre-K Zoom Back to School Night
URL;VALUE=URI:https://www.materdeicatholic.com/calendar/2298979/pre-k-zoom-
 back-to-school-night
DTSTART:20200910T230000Z
DTEND:20200911T000000Z
END:VEVENT
END:VCALENDAR
