BEGIN:VCALENDAR
VERSION:2.0
PRODID:SchoolNow
CALSCALE:GREGORIAN
BEGIN:VEVENT
UID:2dcd32d0-d662-11ea-9961-0aefcaae51c5
DTSTAMP:20200804T151931Z
SUMMARY:Opening of School K-Gr. 3 (only)
DESCRIPTION:Full Day of School except for Half-Day Kindergarten
URL;VALUE=URI:https://www.materdeicatholic.com/calendar/2298976/opening-of-
 school-k-gr-3
DTSTART;VALUE=DATE:20200910
DTEND;VALUE=DATE:20200911
END:VEVENT
END:VCALENDAR
