BEGIN:VCALENDAR
VERSION:2.0
PRODID:SchoolNow
CALSCALE:GREGORIAN
BEGIN:VEVENT
UID:d621ed96-d661-11ea-a20f-1232f666cfb3
DTSTAMP:20200804T145028Z
SUMMARY:First Trimester Begins
URL;VALUE=URI:https://www.materdeicatholic.com/calendar/2298975/first-trime
 ster-begins
DTSTART;VALUE=DATE:20200909
DTEND;VALUE=DATE:20200910
END:VEVENT
END:VCALENDAR
