BEGIN:VCALENDAR
VERSION:2.0
PRODID:SchoolNow
CALSCALE:GREGORIAN
BEGIN:VEVENT
UID:a134b564-d661-11ea-b10a-1232f666cfb3
DTSTAMP:20200807T154224Z
SUMMARY:Kindergarten Zoom Back to School Night
URL;VALUE=URI:https://www.materdeicatholic.com/calendar/2298974/zoom-back-t
 o-school-night-for-kindergarten
DTSTART:20200909T230000Z
DTEND:20200910T000000Z
END:VEVENT
END:VCALENDAR
