BEGIN:VCALENDAR
VERSION:2.0
PRODID:SchoolNow
CALSCALE:GREGORIAN
BEGIN:VEVENT
UID:0a792bb4-d661-11ea-9dd2-0ab5cf863051
DTSTAMP:20200804T151913Z
SUMMARY:Opening of School Gr. 4-8 (only)
DESCRIPTION:Full Day of School
URL;VALUE=URI:https://www.materdeicatholic.com/calendar/2298973/opening-of-
 school-gr-4-8
DTSTART;VALUE=DATE:20200909
DTEND;VALUE=DATE:20200910
END:VEVENT
END:VCALENDAR
