BEGIN:VCALENDAR
VERSION:2.0
PRODID:SchoolNow
CALSCALE:GREGORIAN
BEGIN:VEVENT
UID:961107ce-d660-11ea-8823-1232f666cfb3
DTSTAMP:20200804T144131Z
SUMMARY:Faculty Organizational Day
URL;VALUE=URI:https://www.materdeicatholic.com/calendar/2298972/faculty-org
 anziational-day
DTSTART;VALUE=DATE:20200908
DTEND;VALUE=DATE:20200909
END:VEVENT
END:VCALENDAR
