BEGIN:VCALENDAR
VERSION:2.0
PRODID:SchoolNow
CALSCALE:GREGORIAN
BEGIN:VEVENT
UID:7c48e62c-d660-11ea-9720-1232f666cfb3
DTSTAMP:20200811T193538Z
SUMMARY:Faculty and Staff Professional Day
URL;VALUE=URI:https://www.materdeicatholic.com/calendar/2298971/faculty-and
 -staff-professional-day
DTSTART;VALUE=DATE:20200902
DTEND;VALUE=DATE:20200903
END:VEVENT
END:VCALENDAR
