BEGIN:VCALENDAR
VERSION:2.0
PRODID:SchoolNow
CALSCALE:GREGORIAN
BEGIN:VEVENT
UID:3db241ce-d660-11ea-8ecd-1232f666cfb3
DTSTAMP:20200811T193522Z
SUMMARY:Faculty and Staff Professional Day
URL;VALUE=URI:https://www.materdeicatholic.com/calendar/2298970/faculty-and
 -staff-professional-day
DTSTART;VALUE=DATE:20200901
DTEND;VALUE=DATE:20200902
END:VEVENT
END:VCALENDAR
