BEGIN:VCALENDAR
VERSION:2.0
PRODID:SchoolNow
CALSCALE:GREGORIAN
BEGIN:VEVENT
UID:b3cabac6-e642-11e9-add0-123f4f7f9fe8
DTSTAMP:20191004T010257Z
SUMMARY:Special SCRIP Orders Due
URL;VALUE=URI:https://www.materdeicatholic.com/calendar/2114664/special-scr
 ip-orders-due
DTSTART;VALUE=DATE:20200812
DTEND;VALUE=DATE:20200813
END:VEVENT
END:VCALENDAR
