BEGIN:VCALENDAR
VERSION:2.0
PRODID:SchoolNow
CALSCALE:GREGORIAN
BEGIN:VEVENT
UID:a3340ba4-e642-11e9-9386-123f4f7f9fe8
DTSTAMP:20191004T010229Z
SUMMARY:Special SCRIP Orders Due
URL;VALUE=URI:https://www.materdeicatholic.com/calendar/2114661/special-scr
 ip-orders-due
DTSTART;VALUE=DATE:20200708
DTEND;VALUE=DATE:20200709
END:VEVENT
END:VCALENDAR
