BEGIN:VCALENDAR
VERSION:2.0
PRODID:SchoolNow
CALSCALE:GREGORIAN
BEGIN:VEVENT
UID:985ed98e-e642-11e9-99ab-123f4f7f9fe8
DTSTAMP:20191004T010211Z
SUMMARY:Special SCRIP Orders Due
URL;VALUE=URI:https://www.materdeicatholic.com/calendar/2114660/special-scr
 ip-orders-due
DTSTART;VALUE=DATE:20200603
DTEND;VALUE=DATE:20200604
END:VEVENT
END:VCALENDAR
