BEGIN:VCALENDAR
VERSION:2.0
PRODID:SchoolNow
CALSCALE:GREGORIAN
BEGIN:VEVENT
UID:78d4f03a-e642-11e9-a33a-123f4f7f9fe8
DTSTAMP:20191004T010118Z
SUMMARY:Special SCRIP Orders Due
URL;VALUE=URI:https://www.materdeicatholic.com/calendar/2114658/special-scr
 ip-orders-due
DTSTART;VALUE=DATE:20200513
DTEND;VALUE=DATE:20200514
END:VEVENT
END:VCALENDAR
