BEGIN:VCALENDAR
VERSION:2.0
PRODID:SchoolNow
CALSCALE:GREGORIAN
BEGIN:VEVENT
UID:66cb433a-e642-11e9-bfa3-123f4f7f9fe8
DTSTAMP:20191004T010047Z
SUMMARY:Special SCRIP Orders Due
URL;VALUE=URI:https://www.materdeicatholic.com/calendar/2114657/special-scr
 ip-orders-due
DTSTART;VALUE=DATE:20200422
DTEND;VALUE=DATE:20200423
END:VEVENT
END:VCALENDAR
