BEGIN:VCALENDAR
VERSION:2.0
PRODID:SchoolNow
CALSCALE:GREGORIAN
BEGIN:VEVENT
UID:409eae54-e642-11e9-838a-123f4f7f9fe8
DTSTAMP:20191004T005943Z
SUMMARY:Special SCRIP Orders Due
URL;VALUE=URI:https://www.materdeicatholic.com/calendar/2114656/special-scr
 ip-orders-due
DTSTART;VALUE=DATE:20200408
DTEND;VALUE=DATE:20200409
END:VEVENT
END:VCALENDAR
