BEGIN:VCALENDAR
VERSION:2.0
PRODID:SchoolNow
CALSCALE:GREGORIAN
BEGIN:VEVENT
UID:81c2f366-bef3-11e9-83f7-0adaaf292d42
DTSTAMP:20190830T144544Z
SUMMARY:May Special Food Day Order Due
URL;VALUE=URI:https://www.materdeicatholic.com/calendar/2065006/may-special
 -food-day-order-due
DTSTART;VALUE=DATE:20200424
DTEND;VALUE=DATE:20200425
END:VEVENT
END:VCALENDAR
