BEGIN:VCALENDAR
VERSION:2.0
PRODID:SchoolNow
CALSCALE:GREGORIAN
BEGIN:VEVENT
UID:a7dd03ea-bdf2-11e9-a2e6-12843ea889d8
DTSTAMP:20190813T174910Z
SUMMARY:Special Food Day
URL;VALUE=URI:https://www.materdeicatholic.com/calendar/2062305/special-foo
 d-day
DTSTART;VALUE=DATE:20200508
DTEND;VALUE=DATE:20200509
END:VEVENT
END:VCALENDAR
