BEGIN:VCALENDAR
VERSION:2.0
PRODID:SchoolNow
CALSCALE:GREGORIAN
BEGIN:VEVENT
UID:858a7f84-bdf2-11e9-9a94-12843ea889d8
DTSTAMP:20190813T174813Z
SUMMARY:Special Food Day
URL;VALUE=URI:https://www.materdeicatholic.com/calendar/2062304/special-foo
 d-day
DTSTART;VALUE=DATE:20200424
DTEND;VALUE=DATE:20200425
END:VEVENT
END:VCALENDAR
