BEGIN:VCALENDAR
VERSION:2.0
PRODID:SchoolNow
CALSCALE:GREGORIAN
BEGIN:VEVENT
UID:71875638-bdf2-11e9-8b78-12843ea889d8
DTSTAMP:20190813T174739Z
SUMMARY:Special Food Day
URL;VALUE=URI:https://www.materdeicatholic.com/calendar/2062303/special-foo
 d-day
DTSTART;VALUE=DATE:20200403
DTEND;VALUE=DATE:20200404
END:VEVENT
END:VCALENDAR
