BEGIN:VCALENDAR
VERSION:2.0
PRODID:SchoolNow
CALSCALE:GREGORIAN
BEGIN:VEVENT
UID:80dda86e-bdf0-11e9-b585-0a4bfb05895c
DTSTAMP:20190813T173346Z
SUMMARY:Spring Pictures by LifeTouch
URL;VALUE=URI:https://www.materdeicatholic.com/calendar/2062293/spring-pict
 ures-by-lifetouch
DTSTART;VALUE=DATE:20200420
DTEND;VALUE=DATE:20200421
END:VEVENT
END:VCALENDAR
