BEGIN:VCALENDAR
VERSION:2.0
PRODID:SchoolNow
CALSCALE:GREGORIAN
BEGIN:VEVENT
UID:06d7b4c4-bdf0-11e9-bc3d-0a69e46fa480
DTSTAMP:20190813T173118Z
SUMMARY:School Liturgy
LOCATION:St. Stanislaus Church
URL;VALUE=URI:https://www.materdeicatholic.com/calendar/2062292/school-litu
 rgy
DTSTART:20200416T150000Z
DTEND:20200416T160000Z
END:VEVENT
END:VCALENDAR
