BEGIN:VCALENDAR
VERSION:2.0
PRODID:SchoolNow
CALSCALE:GREGORIAN
BEGIN:VEVENT
UID:e3f12372-a8b5-11e9-b400-12eec86b70c6
DTSTAMP:20190717T171117Z
SUMMARY:Bake Sale and Dress Down Day
URL;VALUE=URI:https://www.materdeicatholic.com/calendar/2033071/bake-sale-a
 nd-dress-down-day
DTSTART;VALUE=DATE:20200513
DTEND;VALUE=DATE:20200514
END:VEVENT
END:VCALENDAR
