BEGIN:VCALENDAR
VERSION:2.0
PRODID:SchoolNow
CALSCALE:GREGORIAN
BEGIN:VEVENT
UID:d04e75fe-a8b5-11e9-bf0e-12eec86b70c6
DTSTAMP:20190717T171044Z
SUMMARY:Bake Sale and Dress Down Day
URL;VALUE=URI:https://www.materdeicatholic.com/calendar/2033070/bake-sale-a
 nd-dress-down-day
DTSTART;VALUE=DATE:20200415
DTEND;VALUE=DATE:20200416
END:VEVENT
END:VCALENDAR
