BEGIN:VCALENDAR
VERSION:2.0
PRODID:SchoolNow
CALSCALE:GREGORIAN
BEGIN:VEVENT
UID:d2a56a20-9da1-11e9-bacc-120690e3a0a4
DTSTAMP:20190703T145023Z
SUMMARY:Closing Liturgy
LOCATION:St. Stanislaus Church
URL;VALUE=URI:https://www.materdeicatholic.com/calendar/2025212/closing-lit
 urgy
DTSTART:20200612T133000Z
DTEND:20200612T143000Z
END:VEVENT
END:VCALENDAR
