BEGIN:VCALENDAR
VERSION:2.0
PRODID:SchoolNow
CALSCALE:GREGORIAN
BEGIN:VEVENT
UID:b1cc4b2a-9da1-11e9-a253-120690e3a0a4
DTSTAMP:20190703T145106Z
SUMMARY:Full Day of School for Gr. 1-7
URL;VALUE=URI:https://www.materdeicatholic.com/calendar/2025211/full-day-of
 -school-for-gr-1-7
DTSTART;VALUE=DATE:20200611
DTEND;VALUE=DATE:20200612
END:VEVENT
END:VCALENDAR
