BEGIN:VCALENDAR
VERSION:2.0
PRODID:SchoolNow
CALSCALE:GREGORIAN
BEGIN:VEVENT
UID:6b9d0b58-9da1-11e9-ab1e-127913aec3e4
DTSTAMP:20190703T144703Z
SUMMARY:8th Grade Graduation
LOCATION:St. Maria Goretti Church
URL;VALUE=URI:https://www.materdeicatholic.com/calendar/2025210/8th-grade-g
 raduation
DTSTART:20200610T213000Z
DTEND:20200610T230000Z
END:VEVENT
END:VCALENDAR
