BEGIN:VCALENDAR
VERSION:2.0
PRODID:SchoolNow
CALSCALE:GREGORIAN
BEGIN:VEVENT
UID:3dd74292-9da1-11e9-8f40-0a96f05daa3a
DTSTAMP:20190703T144546Z
SUMMARY:Full Day of School for Gr. 1-8
URL;VALUE=URI:https://www.materdeicatholic.com/calendar/2025209/full-day-of
 -school-for-gr-1-8
DTSTART;VALUE=DATE:20200609
DTEND;VALUE=DATE:20200610
END:VEVENT
END:VCALENDAR
