BEGIN:VCALENDAR
VERSION:2.0
PRODID:SchoolNow
CALSCALE:GREGORIAN
BEGIN:VEVENT
UID:f0b96d46-9da0-11e9-82f0-0a96f05daa3a
DTSTAMP:20190703T144454Z
SUMMARY:Pre-K Celebration
DESCRIPTION:PreK-3 and PreK-4 students and families
URL;VALUE=URI:https://www.materdeicatholic.com/calendar/2025208/pre-k-celeb
 ration
DTSTART;VALUE=DATE:20200605
DTEND;VALUE=DATE:20200606
END:VEVENT
END:VCALENDAR
