BEGIN:VCALENDAR
VERSION:2.0
PRODID:SchoolNow
CALSCALE:GREGORIAN
BEGIN:VEVENT
UID:6d909b4c-9da0-11e9-81c9-127913aec3e4
DTSTAMP:20190703T143956Z
SUMMARY:Kindergarten Graduation
URL;VALUE=URI:https://www.materdeicatholic.com/calendar/2025207/kindergarte
 n-graduation
DTSTART:20200609T140000Z
DTEND:20200609T153000Z
END:VEVENT
END:VCALENDAR
