BEGIN:VCALENDAR
VERSION:2.0
PRODID:SchoolNow
CALSCALE:GREGORIAN
BEGIN:VEVENT
UID:d05b1366-9d9f-11e9-bac8-127913aec3e4
DTSTAMP:20190703T143533Z
SUMMARY:8th Grade Retreat & Picnic
URL;VALUE=URI:https://www.materdeicatholic.com/calendar/2025206/8th-grade-r
 etreat-picnic
DTSTART;VALUE=DATE:20200605
DTEND;VALUE=DATE:20200606
END:VEVENT
END:VCALENDAR
