BEGIN:VCALENDAR
VERSION:2.0
PRODID:SchoolNow
CALSCALE:GREGORIAN
BEGIN:VEVENT
UID:a6ef204e-9d9f-11e9-9f30-127913aec3e4
DTSTAMP:20190703T143423Z
SUMMARY:Last Day of School for Pre-K
URL;VALUE=URI:https://www.materdeicatholic.com/calendar/2025204/last-day-of
 -school-for-pre-k
DTSTART;VALUE=DATE:20200604
DTEND;VALUE=DATE:20200605
END:VEVENT
END:VCALENDAR
