BEGIN:VCALENDAR
VERSION:2.0
PRODID:SchoolNow
CALSCALE:GREGORIAN
BEGIN:VEVENT
UID:879252a2-9d9f-11e9-8a4e-127913aec3e4
DTSTAMP:20190703T143331Z
SUMMARY:8th Grade Dinner
URL;VALUE=URI:https://www.materdeicatholic.com/calendar/2025203/8th-grade-d
 inner
DTSTART;VALUE=DATE:20200603
DTEND;VALUE=DATE:20200604
END:VEVENT
END:VCALENDAR
