BEGIN:VCALENDAR
VERSION:2.0
PRODID:SchoolNow
CALSCALE:GREGORIAN
BEGIN:VEVENT
UID:12feb700-9d9f-11e9-b7cb-0a96f05daa3a
DTSTAMP:20190703T143015Z
SUMMARY:End of the Year Assessments
URL;VALUE=URI:https://www.materdeicatholic.com/calendar/2025119/end-of-the-
 year-assessments
DTSTART;VALUE=DATE:20200603
DTEND;VALUE=DATE:20200606
END:VEVENT
END:VCALENDAR
