BEGIN:VCALENDAR
VERSION:2.0
PRODID:SchoolNow
CALSCALE:GREGORIAN
BEGIN:VEVENT
UID:ff8dd7e6-9d9e-11e9-918c-0a96f05daa3a
DTSTAMP:20190703T142942Z
SUMMARY:End of the Year Assessments
URL;VALUE=URI:https://www.materdeicatholic.com/calendar/2025118/end-of-the-
 year-assessments
DTSTART;VALUE=DATE:20200601
DTEND;VALUE=DATE:20200602
END:VEVENT
END:VCALENDAR
