BEGIN:VCALENDAR
VERSION:2.0
PRODID:SchoolNow
CALSCALE:GREGORIAN
BEGIN:VEVENT
UID:bd50241a-9d9e-11e9-87d9-0a96f05daa3a
DTSTAMP:20190703T142751Z
SUMMARY:End of Year Assessments
URL;VALUE=URI:https://www.materdeicatholic.com/calendar/2025117/end-of-year
 -assessments
DTSTART;VALUE=DATE:20200527
DTEND;VALUE=DATE:20200530
END:VEVENT
END:VCALENDAR
