BEGIN:VCALENDAR
VERSION:2.0
PRODID:SchoolNow
CALSCALE:GREGORIAN
BEGIN:VEVENT
UID:9cf8e9f4-9d9e-11e9-b104-0a96f05daa3a
DTSTAMP:20190703T142657Z
SUMMARY:May Procession
LOCATION:St. Stanislaus Church
URL;VALUE=URI:https://www.materdeicatholic.com/calendar/2025116/may-process
 ion
DTSTART:20200520T180000Z
DTEND:20200520T190000Z
END:VEVENT
END:VCALENDAR
