BEGIN:VCALENDAR
VERSION:2.0
PRODID:SchoolNow
CALSCALE:GREGORIAN
BEGIN:VEVENT
UID:01c984b6-9d9e-11e9-a432-0a345ceeba3e
DTSTAMP:20190703T142402Z
SUMMARY:Welcome Night for New Families
URL;VALUE=URI:https://www.materdeicatholic.com/calendar/2025115/welcome-nig
 ht-for-new-families
DTSTART;VALUE=DATE:20200518
DTEND;VALUE=DATE:20200519
END:VEVENT
END:VCALENDAR
