BEGIN:VCALENDAR
VERSION:2.0
PRODID:SchoolNow
CALSCALE:GREGORIAN
BEGIN:VEVENT
UID:d83b5c8c-9d9d-11e9-bf9b-127913aec3e4
DTSTAMP:20200807T171128Z
SUMMARY:National Junior Honor Society Induction
LOCATION:St. Stanislaus Church
URL;VALUE=URI:https://www.materdeicatholic.com/calendar/2025114/national-ju
 nior-honor-society-inducation
DTSTART:20200514T180000Z
DTEND:20200514T190000Z
END:VEVENT
END:VCALENDAR
