BEGIN:VCALENDAR
VERSION:2.0
PRODID:SchoolNow
CALSCALE:GREGORIAN
BEGIN:VEVENT
UID:a97eca32-9d9d-11e9-af43-127913aec3e4
DTSTAMP:20190703T142009Z
SUMMARY:Spring Concert & Art Show
URL;VALUE=URI:https://www.materdeicatholic.com/calendar/2025103/spring-conc
 ert-art-show
DTSTART:20200512T223000Z
DTEND:20200513T003000Z
END:VEVENT
END:VCALENDAR
